BEGIN:VCALENDAR
VERSION:2.0
PRODID:-//InvisionCommunity Events 4.7.21//EN
METHOD:PUBLISH
CALSCALE:GREGORIAN
REFRESH-INTERVAL:PT15M
X-PUBLISHED-TTL:PT15M
X-WR-CALNAME:Releases
NAME:Releases
BEGIN:VTIMEZONE
TZID:Europe/London
TZURL:http://tzurl.org/zoneinfo/Europe/London
X-LIC-LOCATION:Europe/London
BEGIN:DAYLIGHT
TZOFFSETFROM:+0000
TZOFFSETTO:+0100
TZNAME:BST
DTSTART:20260329T020000Z
RRULE:FREQ=YEARLY;BYMONTH=3;BYDAY=-1SU
END:DAYLIGHT
BEGIN:STANDARD
TZOFFSETFROM:+0100
TZOFFSETTO:+0000
TZNAME:GMT
DTSTART:20261025T020000Z
RRULE:FREQ=YEARLY;BYMONTH=10;BYDAY=-1SU
END:STANDARD
END:VTIMEZONE
BEGIN:VEVENT
SUMMARY:Assassins Creed: Black Flag Resynced
DTSTAMP:20260423T235720Z
SEQUENCE:0
UID:3570-2-09c2b4b6a66c7f7cb1844bac49579eaf@www.trophies.de
ORGANIZER;CN="team-DX-treme":NoReply@Trophies.de
DESCRIPTION:\n	\n\n\n\n	 \n\n\n\n	Wirklich sehr lange lies Ubisoft auf 
	sich warten\, um eines der am schlechtesten gehüteten Geheimnisse der Gam
	ing-Industrie zu enthüllen\, aber nun ist es soweit. Im Zuge einer fast 3
	0-minütigen Präsentation wurde das Remake zu Assassins Creed: Black Fla
	g enthüllt. Nachfolgend findet ihr die wichtigsten Eckdaten aus der Präs
	entation:\n\n\n\n	 \n\n\n\n	- Matt Ryan kehrt als Originalstimme und Scha
	uspieler von Edward Kenway zurück.\n\n\n\n	 \n\n\n\n	- Sowohl Paul Fu\,
	 der Creative Director des Remakes\, als auch Jean Guesdon\, der Game Dire
	ctor des Originals\, haben die Entwicklung des Remakes geleitet.\n\n\n\n	
	 \n\n\n\n	- Das Remake ist von Grund auf neu gebaut mit der neuesten Vers
	ion der Anvil-Engine\, wobei man dem Original treu geblieben. Beispielswei
	se ist das Remake genau so wie das Original kein RPG-Ableger.\n\n\n\n	 \n
	\n\n\n	- Es gibt ein neues dynamisches Wettersystem und die Unterwasserwel
	t wurde deutlich erweitert.\n\n\n\n	 \n\n\n\n	- Das Kampfsystem wurde üb
	erholt und besitzt nun mehr Fokus auf Action. Attacken und Kombos sind nun
	 noch flüssiger und man kann bis zu vier Takedowns verketten.\n\n\n\n	 \
	n\n\n\n	- Das Parkour-System wurde verbessert\, ist nun noch flüssiger un
	d beinhaltet auch die neuesten Verbesserungen aus den jüngsten Ablegern.\
	n\n\n\n	 \n\n\n\n	- Verfolgungs- und Abhörmissionen wurden überarbeitet
	\, da diese Missionen im Original zu den negativsten Aspekten zählten. Im
	 Remake wird man nun nicht mehr desynchronisiert\, wenn man entdeckt wurde
	\, was ursprünglich den Neustart der Mission bedeutete. Stattdessen verh
	ält sich die Zielperson anders\, indem man zum Beispiel in einen Kampf ve
	rwickelt wird.\n\n\n\n	 \n\n\n\n	- Die Jackdaw kann mit neuen Waffen ausg
	estattet werden und man kann die Waffen auch mit neuen Modi ausstatten.\n\
	n\n\n	 \n\n\n\n	- Um die eigene Crew zu verstärken\, wurden drei brandne
	ue Offiziere hinzugefügt - Lucy Baldwin\, der Padre und Deadman Smith. Je
	der Offizier besitzt auch eine eigene\, brandneue Handlung\, worin man meh
	r über die Hintergrundgeschichte der Charaktere erfährt. Wenn man das Ve
	rtrauen der Offiziere erlangt\, kann man die Jackdaw mit exklusiven Upgrad
	es ausstatten\, wie zum Beispiel die Möglichkeit die Kanonen doppelt abzu
	feuern durch das Upgrade von Deadman Smith.\n\n\n\n	 \n\n\n\n	- Ein weite
	res neues Feature ist die Rekrutierung eines Haustieres für die Jackdaw. 
	Hierbei kann man sich zwischen einer Katze und einem Affen entscheiden.\n\
	n\n\n	 \n\n\n\n	- Die Seemannslieder aus dem Original kehren zurück und 
	das Remake wird auch noch ein paar neue Lieder enthalten.\n\n\n\n	 \n\n\n
	\n	- Es wird auch neue Handlungsstränge mit Blackbeard und Stede Bonnet g
	eben. Sogar eine brandneue Szene mit Edwards Frau.\n\n\n\n	 \n\n\n\n	- Da
	s Remake wird nicht den Multiplayer und das DLC \"Schrei nach Freiheit\" b
	einhalten.\n\n\n\n	 \n\n\n\n	- Die Missionen in der Moderne werden im Rem
	ake enthalten sein und neue Momente beinhalten.\n\n\n\n	 \n\n\n\n	- Der M
	usiker Woodkid (Assassins Creed: Revelations\, Death Stranding Reihe) wird
	 zur Assassins Creed Reihe zurückkehren und hat ein paar Lieder für das 
	Remake neu interpretiert.\n\n\n\n	 \n\n\n\n	 \n\n\n\n	Hier der erste Gam
	eplay-Trailer zum Remake:\n\n\n\n	\n		\n	\n\n\n\n	 \n\n\n\n	Zum Abschluss
	 der Präsentation wurden auch die zwei Editionen des Remakes enthüllt:\n
	\n\n\n	Launch Edition für 59\,99€\n\n\n\n	\n		Das Spiel\n	\n	\n		Ein St
	eelbook (exklusiv bei Media Markt und Saturn)\n	\n	\n		34-seitiges physisc
	hes Artbook\n	\n	\n		Weltkarte als Poster\n	\n	\n		Vorbestellerbonus: Blut
	rotes Kostüm\, Schwert und Pistole\n	\n\n\n\n	 \n\n\n\n	\n\n\n\n	 \n\n\
	n\n	\n\n\n\n	 \n\n\n\n	 \n\n\n\n	Collectors Edition für 199\,99€\n\n\
	n\n	\n		Das Spiel\n	\n	\n		Ein Steelbook\n	\n	\n		Edward's Metalbrosche\n	
	\n	\n		Eine Stoffweltkarte\n	\n	\n		Ein Seemannslieder-Notenblatt\n	\n	\n	
		Ledergebundenes Logbuch von Edward\n	\n	\n		31 cm große Figur von Edward
	 Kenway\n	\n	\n		Digitale Inhalte\, wie Blutrotes Kostüm\, Schwert und P
	istole\, Meisterassassine-Charakterpaket und Meisterassassine-Schifffahrts
	paket\n	\n\n\n\n	 \n\n\n\n	\n\n\n\n	 \n\n\n\n	\n\n
DTSTART;VALUE=DATE:20260709
END:VEVENT
END:VCALENDAR
