BEGIN:VCALENDAR
VERSION:2.0
PRODID:-//InvisionCommunity Events 4.7.21//EN
METHOD:PUBLISH
CALSCALE:GREGORIAN
REFRESH-INTERVAL:PT15M
X-PUBLISHED-TTL:PT15M
X-WR-CALNAME:Serverabschaltungen
NAME:Serverabschaltungen
BEGIN:VTIMEZONE
TZID:Europe/London
TZURL:http://tzurl.org/zoneinfo/Europe/London
X-LIC-LOCATION:Europe/London
BEGIN:DAYLIGHT
TZOFFSETFROM:+0000
TZOFFSETTO:+0100
TZNAME:BST
DTSTART:20260329T020000Z
RRULE:FREQ=YEARLY;BYMONTH=3;BYDAY=-1SU
END:DAYLIGHT
BEGIN:STANDARD
TZOFFSETFROM:+0100
TZOFFSETTO:+0000
TZNAME:GMT
DTSTART:20261025T020000Z
RRULE:FREQ=YEARLY;BYMONTH=10;BYDAY=-1SU
END:STANDARD
END:VTIMEZONE
BEGIN:VEVENT
SUMMARY:Highguard
DTSTAMP:20260304T230931Z
SEQUENCE:0
UID:3569-8-09c2b4b6a66c7f7cb1844bac49579eaf@www.trophies.de
ORGANIZER;CN="team-DX-treme":NoReply@Trophies.de
DESCRIPTION:\n	Nach einem sehr turbulenten Auf und Ab\, das mit der Ank
	ündigung bei den Game Awards 2025 begann\, schließt der Live Service Tit
	el Highguard seine Pforten am 12. März 2026. Ein letztes Update mit neuen
	 Inhalten wurde vor kurzem hinzugefügt und Spieler*innen können bis zum 
	Abschalttermin noch versuchen die Platin-Trophäe zu erhalten.\n\n\n\n	 \
	n\n\n\n	Quelle: https://www.play3.de/2026/03/03/highguard-geht-offline-fu
	enf-wochen-nach-release-multiplayer-shooter-ist-offiziell-tot/\n\n
DTSTART;VALUE=DATE:20260312
END:VEVENT
END:VCALENDAR
