BEGIN:VCALENDAR
VERSION:2.0
PRODID:-//InvisionCommunity Events 4.7.21//EN
METHOD:PUBLISH
CALSCALE:GREGORIAN
REFRESH-INTERVAL:PT15M
X-PUBLISHED-TTL:PT15M
X-WR-CALNAME:Releases
NAME:Releases
BEGIN:VTIMEZONE
TZID:Europe/London
TZURL:http://tzurl.org/zoneinfo/Europe/London
X-LIC-LOCATION:Europe/London
BEGIN:DAYLIGHT
TZOFFSETFROM:+0000
TZOFFSETTO:+0100
TZNAME:BST
DTSTART:20260329T020000Z
RRULE:FREQ=YEARLY;BYMONTH=3;BYDAY=-1SU
END:DAYLIGHT
BEGIN:STANDARD
TZOFFSETFROM:+0100
TZOFFSETTO:+0000
TZNAME:GMT
DTSTART:20261025T020000Z
RRULE:FREQ=YEARLY;BYMONTH=10;BYDAY=-1SU
END:STANDARD
END:VTIMEZONE
BEGIN:VEVENT
SUMMARY:Marvel Tokon: Fighting Souls
DTSTAMP:20260304T230521Z
SEQUENCE:0
UID:3568-2-09c2b4b6a66c7f7cb1844bac49579eaf@www.trophies.de
ORGANIZER;CN="team-DX-treme":NoReply@Trophies.de
DESCRIPTION:\n	\n\n\n\n	 \n\n\n\n	Sony Interactive Entertainment und Ar
	c System Works haben im Rahmen einer neuen State of Play den Erscheinungst
	ermin von MARVEL Tokon: Fighting Souls verraten. Das Kampfspiel wird dem
	nach am 6. August 2026 für PlayStation 5 und PC (Steam\, Epic Games Sto
	re) erscheinen. Mit einem neuen Trailer kündigte man außerdem Storm\, Ma
	gik\, Wolverine und Danger von den X-Men als spielbare Charaktere an. Auch
	 einen kurzen Blick auf den Story-Modus gibt es\, der im Motion-Comic-Stil
	 erzählt und in zehn Sprachen synchronisiert wird\, darunter deutsch.\n\n
	\n\n	 \n\n\n\n	Neben einer Standard Edition für 69\,99€ wird es auch e
	ine Digital Deluxe Edition für 94\,99€ und Ultimate Edition für 109\
	,99€ geben. Die Digital Deluxe Edition bietet das Basisspiel\, den Jahr 
	1 Charakter &amp\; Stage Pass\, der vier zusätzlichen Charakteren und ein
	e zusätzliche Stage bietet\, Howard the Duck als Lobby-Avatar und Cosmo a
	ls Lobby-Haustier. Die Ultimate Edition bietet alles aus der Digital Delux
	e Edition sowie zusätzliche Kosmetik\, darunter Kostüme für Storm\, Cap
	tain America\, Doctor Doom\, Iron Man und Spider-Man. Die Kostüme sollen 
	allerdings nur bis zum 5. August 2027 verfügbar sein. Die Ultimate Editio
	n bietet baußerdem animierte\, chromatische Farben für alle 20 Charakter
	e aus dem Basis-Roster.\n\n\n\n	 \n\n\n\n	Über MARVEL Tokon: Fighting So
	uls\n\n\n\n	 \n\n\n\n	MARVEL Tokon: Fighting Souls ist ein 4v4-Tag-Team-K
	ampfspiel\, indem spielende sich ein Team aus legendären Marvel-Charakter
	en zusammen stellen können. »Erlebe das Marvel-Universum dank einer Ausw
	ahl von legendären Helden und Bösewichten\, authentischer Stages und int
	uitiver Gameplay-Mechaniken wie nie zuvor. Spüre den Nervenkitzel rasante
	r\, halsbrecherischer Action und Team-VS-Kämpfe mit atemberaubender Grafi
	k im Anime-Stil\, die jedes Mal aufs Neue ein aufregendes und einzigartige
	s Spektakel bieten.«\n\n\n\n	 \n\n\n\n	Neben Storm\, Magik\, Wolverine u
	nd Danger wsind noch folgende Charaktere bislang bestätigt:\n\n\n\n	\n		C
	aptain America (Steve Rogers)\n	\n	\n		Doctor Doom\n	\n	\n		Ghost Rider (R
	obbie Reyes)\n	\n	\n		Iron Man\n	\n	\n		Ms. Marvel (Kamala Khan)\n	\n	\n		
	Spider-Man (Peter Parker)\n	\n	\n		Star-Lord (Peter Quill)\n	\n\n\n\n	 \n
	\n\n\n	\n		\n	\n\n
DTSTART;VALUE=DATE:20260806
END:VEVENT
END:VCALENDAR
