BEGIN:VCALENDAR
VERSION:2.0
PRODID:-//InvisionCommunity Events 4.7.21//EN
METHOD:PUBLISH
CALSCALE:GREGORIAN
REFRESH-INTERVAL:PT15M
X-PUBLISHED-TTL:PT15M
X-WR-CALNAME:Releases
NAME:Releases
BEGIN:VTIMEZONE
TZID:Europe/London
TZURL:http://tzurl.org/zoneinfo/Europe/London
X-LIC-LOCATION:Europe/London
BEGIN:DAYLIGHT
TZOFFSETFROM:+0000
TZOFFSETTO:+0100
TZNAME:BST
DTSTART:20260329T020000Z
RRULE:FREQ=YEARLY;BYMONTH=3;BYDAY=-1SU
END:DAYLIGHT
BEGIN:STANDARD
TZOFFSETFROM:+0100
TZOFFSETTO:+0000
TZNAME:GMT
DTSTART:20261025T020000Z
RRULE:FREQ=YEARLY;BYMONTH=10;BYDAY=-1SU
END:STANDARD
END:VTIMEZONE
BEGIN:VEVENT
SUMMARY:Metal Gear Solid: Master Collection Vol. 2
DTSTAMP:20260304T225841Z
SEQUENCE:0
UID:3566-2-09c2b4b6a66c7f7cb1844bac49579eaf@www.trophies.de
ORGANIZER;CN="team-DX-treme":NoReply@Trophies.de
DESCRIPTION:\n	\n\n\n\n	 \n\n\n\n	Während einer neuen State of Play ha
	t Konami die lange erwartetet Metal Gear Solid: Master Collection Vol. 2
	 für PlayStation 5\, Xbox Series\, Nintendo Switch 2\, Nintendo Switch u
	nd PC-Steam. Die Sammlung soll am 27. August 2026 erscheinen.\n\n\n\n	 
	\n\n\n\n	Metal Gear Solid: Master Collection Vol. 2 besteht aus Metal Gear
	 Solid 4: Guns of the Patriots und Metal Gear Solid: Peace Walker aus der 
	HD-Collection\, sowie den Gameboy-Color-Titel Metal Gear: Ghost Babel. Met
	al Gear Solid: Peace Walker bietet einen Online-Modus für bis zu sechs Sp
	ieler/Spielerinnen. Auch enthalten sind einige digitale Goodies wie den So
	undtrack\, Drehbücher und Masterbücher sowie die Metal Gear Solid 4 Data
	base.\n\n\n\n	 \n\n\n\n	\n		\n	\n\n\n\n	 \n\n\n\n	\n\n
DTSTART;VALUE=DATE:20260827
END:VEVENT
END:VCALENDAR
