BEGIN:VCALENDAR
VERSION:2.0
PRODID:-//InvisionCommunity Events 4.7.21//EN
METHOD:PUBLISH
CALSCALE:GREGORIAN
REFRESH-INTERVAL:PT15M
X-PUBLISHED-TTL:PT15M
X-WR-CALNAME:Releases
NAME:Releases
BEGIN:VTIMEZONE
TZID:Europe/London
TZURL:http://tzurl.org/zoneinfo/Europe/London
X-LIC-LOCATION:Europe/London
BEGIN:DAYLIGHT
TZOFFSETFROM:+0000
TZOFFSETTO:+0100
TZNAME:BST
DTSTART:20260329T020000Z
RRULE:FREQ=YEARLY;BYMONTH=3;BYDAY=-1SU
END:DAYLIGHT
BEGIN:STANDARD
TZOFFSETFROM:+0100
TZOFFSETTO:+0000
TZNAME:GMT
DTSTART:20261025T020000Z
RRULE:FREQ=YEARLY;BYMONTH=10;BYDAY=-1SU
END:STANDARD
END:VTIMEZONE
BEGIN:VEVENT
SUMMARY:Beast of Reincarnation
DTSTAMP:20260304T223611Z
SEQUENCE:0
UID:3565-2-09c2b4b6a66c7f7cb1844bac49579eaf@www.trophies.de
ORGANIZER;CN="team-DX-treme":NoReply@Trophies.de
DESCRIPTION:\n	\n\n\n\n	 \n\n\n\n	Im Rahmen einer neuen State of Play h
	at Game Freak den Erscheinungstermin von Beast of Reincarnation bekannt 
	gegeben. Das »Einzelspieler- und Einzelhund-Action-RPG« soll demnach am
	 4. August 2026 für PlayStation 5\, Xbox Series und PC-Steam.\n\n\n\n	
	 \n\n\n\n	Die Geschichte spielt im Jahr 4026 nach Christus\, in einem pos
	tapokalyptischen Japan. Im Mittelpunkt stehen Emma und ihr Hund Koo. Emma 
	wurde von der sogenannten »Seuche» befallen\, die ihr die Fähigkeit ver
	leiht\, Pflanzen zu manipulieren. Von ihren Mitmenschen wird sie gemieden\
	, da sie weder Erinnerungen noch Gefühle hat\, weshalb sie in völliger I
	solation lebt. Koo hingegen ist ein sogenannter »Malefact« - ein Wesen\,
	 das eine große Bedrohung für diese Welt darstellt und daher vernichte g
	ehört. Gemeinsam ziehen sie gen Westen\, um die Bestie der Reinkarnation 
	zu stellen - der Quelle allen Verderbens.\n\n\n\n	 \n\n\n\n	Die Verderbni
	s kann schnell zu abrupten Veränderungen in der Welt sorgen und die Lands
	chaft in einen dichten\, überwucherten Wald verwandeln. Diese Wälder wer
	den von Kreaturen erschaffen\, die Nushi genannt werden. Um zu überleben\
	, müssen Emma und Koo die Macht der Nushi absorbieren\, um so neue Fähig
	keiten zu erlangen.\n\n\n\n	 \n\n\n\n	Spielerisch wird Beast of Reincarna
	tion als »Einzelspieler- und Einzelhund-Action-RPG« bezeichnet und biete
	t ein Mix aus Action- und klassischen rundenbasierten RPG-Elementen. Emma 
	kämpft mit rasanten Katana-Angriffen\, während sie ihr Hund Koo über ei
	n befehlsbasiertes System unterstützt. Pariert ihr Angriffe\, sammelt ihr
	 Punkte\, mit denen ihr die Fähigkeiten eures tierischen Begleiters ausl
	ösen könnt. Das Spieltempo lässt sich auch verlangsamen\, um so taktisc
	her zu agieren.\n\n\n\n	 \n\n\n\n	\n		\n	\n\n
DTSTART;VALUE=DATE:20260804
END:VEVENT
END:VCALENDAR
