BEGIN:VCALENDAR
VERSION:2.0
PRODID:-//InvisionCommunity Events 4.7.21//EN
METHOD:PUBLISH
CALSCALE:GREGORIAN
REFRESH-INTERVAL:PT15M
X-PUBLISHED-TTL:PT15M
X-WR-CALNAME:Releases
NAME:Releases
BEGIN:VTIMEZONE
TZID:Europe/London
TZURL:http://tzurl.org/zoneinfo/Europe/London
X-LIC-LOCATION:Europe/London
BEGIN:DAYLIGHT
TZOFFSETFROM:+0000
TZOFFSETTO:+0100
TZNAME:BST
DTSTART:20260329T020000Z
RRULE:FREQ=YEARLY;BYMONTH=3;BYDAY=-1SU
END:DAYLIGHT
BEGIN:STANDARD
TZOFFSETFROM:+0100
TZOFFSETTO:+0000
TZNAME:GMT
DTSTART:20261025T020000Z
RRULE:FREQ=YEARLY;BYMONTH=10;BYDAY=-1SU
END:STANDARD
END:VTIMEZONE
BEGIN:VEVENT
SUMMARY:Dead or Alive 6: Last Round
DTSTAMP:20260304T223401Z
SEQUENCE:0
UID:3564-2-09c2b4b6a66c7f7cb1844bac49579eaf@www.trophies.de
ORGANIZER;CN="team-DX-treme":NoReply@Trophies.de
DESCRIPTION:\n	\n\n\n\n	 \n\n\n\n	Koei Tecmo und Team Ninja haben für 
	die State of Play zwei Neuigkeiten zur Dead-or-Alive-Marke mitgebracht. Di
	e erste betrifft Dead or Alive 6. Dieses erhält mit Dead or Alive 6 Last
	 Round eine neue Version\, die am 25. Juni 2026 für 39\,99€ für Pla
	yStation 5\, Xbox Series und PC-Steam erscheinen soll.\n\n\n\n	 \n\n\n\n	
	Dead or Alive 6 Last Round wird die Definitiv-Version von Dead or Alive 6\
	, das sich mittlerweile über 900\,000 Mal verkauft hat\, während die kos
	tenlose Version über Acht Millionen Mal runter geladen wurde. Last Round 
	bietet alle 24 Charaktere aus dem Basis-Roster sowie 5 ehmalige Dlc-Charak
	tere\, darunter Nyotengu\, Phase 4\, Momiji\, Rachel und Tamaki. Zudem erh
	alten beliebte Charaktere wie Kasume und Marie Rose fünf neue Kostüme ba
	sierend auf andere Team Ninja-Titel wie Ninja Gaiden 3 Razor’s Edge und 
	Dead or Alive Xtreme Venus Vacation. Auch wird es einen neuen Fotomodus ge
	ben\, mit dem Spieler und Spielerinnen dank einer ganzen Reihe von Funktio
	nen wie »Charakterposition« und »Posenauswahl« ihre Lieblingskämpfer 
	in Aktion aus jedem Blickwinkel festhalten können.\n\n\n\n	 \n\n\n\n	Auc
	h Dead or Alive 6 Last Round wird eine kostenlose Version erhalten\, die w
	ie die Premium-Version am 25. Juni erscheinen wird. Diese bietet zur Verö
	ffentlichung die Charaktere Kasumi\, Marie Rose\, Honoka und NiCO\, den Fo
	tomodus sowie mdie Online-Modi »DOA Quest« und »DOA Central«.\n\n\n\n
		 \n\n\n\n	\n		\n	\n\n
DTSTART;VALUE=DATE:20260625
END:VEVENT
END:VCALENDAR
