BEGIN:VCALENDAR
VERSION:2.0
PRODID:-//InvisionCommunity Events 4.7.21//EN
METHOD:PUBLISH
CALSCALE:GREGORIAN
REFRESH-INTERVAL:PT15M
X-PUBLISHED-TTL:PT15M
X-WR-CALNAME:Releases
NAME:Releases
BEGIN:VTIMEZONE
TZID:Europe/London
TZURL:http://tzurl.org/zoneinfo/Europe/London
X-LIC-LOCATION:Europe/London
BEGIN:DAYLIGHT
TZOFFSETFROM:+0000
TZOFFSETTO:+0100
TZNAME:BST
DTSTART:20260329T020000Z
RRULE:FREQ=YEARLY;BYMONTH=3;BYDAY=-1SU
END:DAYLIGHT
BEGIN:STANDARD
TZOFFSETFROM:+0100
TZOFFSETTO:+0000
TZNAME:GMT
DTSTART:20261025T020000Z
RRULE:FREQ=YEARLY;BYMONTH=10;BYDAY=-1SU
END:STANDARD
END:VTIMEZONE
BEGIN:VEVENT
SUMMARY:Ghost of Yotei - Legends Mode DLC
DTSTAMP:20260304T223050Z
SEQUENCE:0
UID:3563-2-09c2b4b6a66c7f7cb1844bac49579eaf@www.trophies.de
ORGANIZER;CN="team-DX-treme":NoReply@Trophies.de
DESCRIPTION:\n	\n\n\n\n	 \n\n\n\n	Der Legends Modus für Ghost of Yot
	ei wurde bei der letzten State of Play Ausgabe vorgestellt und erscheint 
	am 10. März für alle Spieler:innen als Gratis-DLC.\n\n\n\n	 \n\n\n
	\n	 \n\n\n\n	\n		\n	\n\n\n\n	 \n\n
DTSTART;VALUE=DATE:20260310
END:VEVENT
END:VCALENDAR
