BEGIN:VCALENDAR
VERSION:2.0
PRODID:-//InvisionCommunity Events 4.7.21//EN
METHOD:PUBLISH
CALSCALE:GREGORIAN
REFRESH-INTERVAL:PT15M
X-PUBLISHED-TTL:PT15M
X-WR-CALNAME:Releases
NAME:Releases
BEGIN:VTIMEZONE
TZID:Europe/London
TZURL:http://tzurl.org/zoneinfo/Europe/London
X-LIC-LOCATION:Europe/London
BEGIN:DAYLIGHT
TZOFFSETFROM:+0000
TZOFFSETTO:+0100
TZNAME:BST
DTSTART:20260329T020000Z
RRULE:FREQ=YEARLY;BYMONTH=3;BYDAY=-1SU
END:DAYLIGHT
BEGIN:STANDARD
TZOFFSETFROM:+0100
TZOFFSETTO:+0000
TZNAME:GMT
DTSTART:20261025T020000Z
RRULE:FREQ=YEARLY;BYMONTH=10;BYDAY=-1SU
END:STANDARD
END:VTIMEZONE
BEGIN:VEVENT
SUMMARY:Greedfall 2: The Dying World
DTSTAMP:20260304T222555Z
SEQUENCE:0
UID:3562-2-09c2b4b6a66c7f7cb1844bac49579eaf@www.trophies.de
ORGANIZER;CN="team-DX-treme":NoReply@Trophies.de
DESCRIPTION:\n	\n\n\n\n	 \n\n\n\n	Nach einem Jahr im Early Access auf S
	team erscheint jetzt am 12.03.2026 Greedfall 2 für die PlayStation. Der e
	rste Teil ist vielen bekannt\, da er im Januar ein Teil der monatlichen PS
	 Plus Spiele war. Überschattet wird der Release durch die Insolvenz des 
	Publishers Nacon.\n\n\n\n	 \n\n\n\n	Die Erfahrungen aus dem Early Access 
	sind gemischt. Das Kampfsystem soll sich mehr an Baldur's Gate 3 orientier
	en\, was es erlaubt  Kämpfe taktischer anzugehen. Die Welt\, Charaktere 
	und Story\, soweit bekannt\, funktionieren und sind atmossphärisch. Jedoc
	h wird die Immersion noch durch unsichtbare Wände und schlauchige Areale 
	getrübt. Die Grafik wird vielfach kritisiert\, insbesondere unsaubere Ani
	mationen. Inwieweit die Zeit des Early Access genutzt wurde und wie die Um
	setzung für die PlayStation gelungen ist\, werden wir im März erfahren.\
	n\n\n\n	 \n\n\n\n	\n		\n	\n\n
DTSTART;VALUE=DATE:20260312
END:VEVENT
END:VCALENDAR
