BEGIN:VCALENDAR
VERSION:2.0
PRODID:-//InvisionCommunity Events 4.7.21//EN
METHOD:PUBLISH
CALSCALE:GREGORIAN
REFRESH-INTERVAL:PT15M
X-PUBLISHED-TTL:PT15M
X-WR-CALNAME:Releases
NAME:Releases
BEGIN:VTIMEZONE
TZID:Europe/London
TZURL:http://tzurl.org/zoneinfo/Europe/London
X-LIC-LOCATION:Europe/London
BEGIN:DAYLIGHT
TZOFFSETFROM:+0000
TZOFFSETTO:+0100
TZNAME:BST
DTSTART:20260329T020000Z
RRULE:FREQ=YEARLY;BYMONTH=3;BYDAY=-1SU
END:DAYLIGHT
BEGIN:STANDARD
TZOFFSETFROM:+0100
TZOFFSETTO:+0000
TZNAME:GMT
DTSTART:20261025T020000Z
RRULE:FREQ=YEARLY;BYMONTH=10;BYDAY=-1SU
END:STANDARD
END:VTIMEZONE
BEGIN:VEVENT
SUMMARY:Marvel’s Wolverine
DTSTAMP:20260304T222322Z
SEQUENCE:0
UID:3561-2-09c2b4b6a66c7f7cb1844bac49579eaf@www.trophies.de
ORGANIZER;CN="team-DX-treme":NoReply@Trophies.de
DESCRIPTION:\n	\n\n\n\n	 \n\n\n\n	Vier Jahre ist es her\, das Sony Inte
	ractive Entertainment und Insomniac Games ein Videospiel zum ikonischen Ma
	rvel-Helden mit den Adamantium-Krallen angekündigt hat\, nun gibt es ein 
	erstes Gameplay-Video und einen Veröffentlichungszeitraum. So soll Mar
	vel’s Wolverine im Herbst 2026 für die PlayStation 5 erscheinen.\n\n\
	n\n	 \n\n\n\n	In Marvel’s Wolverine begleiten Spieler und Spielerinnen 
	den Titelgebenden Wolverine aka Logan\, gespielt vom Schauspieler Liam McI
	ntyre\, auf einer Jagd nach den Geheimnissen seiner eigenen Vergangenheit.
	 Man verspricht ein Kampfsystem das auf Geschwindigkeit und rohe Gewalt se
	tzt. Wolverine wird Gegner mit Blitzschnellen Angriffen zerlegen und auch 
	ihre Gliedmaßen abtrennen können. Auch seine Heilfähigkeiten werden zu 
	seinem Gameplay gehören.\n\n\n\n	 \n\n\n\n	Neben Wolverine werden auch a
	ndere bekannte Marvel-Figuren aus dem X-Men-Universum auftauchen\, darunte
	r Mystique und Omega Red. Die Reavers treten als Gegnerfraktion auf. Zu de
	n Schauplätzen gehören unter anderem Inselnation Madripoor\, die eisige 
	Wildnis Kanadas und die engen Straßen Tokios.\n\n\n\n	 \n\n\n\n	\n		\n	\
	n\n
DTSTART;VALUE=DATE:20260915
END:VEVENT
END:VCALENDAR
